BEGIN:VCALENDAR
VERSION:2.0
PRODID:-//Buck Hill Art Association - ECPv6.13.2.1//NONSGML v1.0//EN
CALSCALE:GREGORIAN
METHOD:PUBLISH
X-ORIGINAL-URL:https://buckhillartassociation.org
X-WR-CALDESC:Events for Buck Hill Art Association
REFRESH-INTERVAL;VALUE=DURATION:PT1H
X-Robots-Tag:noindex
X-PUBLISHED-TTL:PT1H
BEGIN:VTIMEZONE
TZID:America/New_York
BEGIN:DAYLIGHT
TZOFFSETFROM:-0500
TZOFFSETTO:-0400
TZNAME:EDT
DTSTART:20250309T070000
END:DAYLIGHT
BEGIN:STANDARD
TZOFFSETFROM:-0400
TZOFFSETTO:-0500
TZNAME:EST
DTSTART:20251102T060000
END:STANDARD
BEGIN:DAYLIGHT
TZOFFSETFROM:-0500
TZOFFSETTO:-0400
TZNAME:EDT
DTSTART:20260308T070000
END:DAYLIGHT
BEGIN:STANDARD
TZOFFSETFROM:-0400
TZOFFSETTO:-0500
TZNAME:EST
DTSTART:20261101T060000
END:STANDARD
END:VTIMEZONE
BEGIN:VEVENT
DTSTART;TZID=America/New_York:20260215T180000
DTEND;TZID=America/New_York:20260215T200000
DTSTAMP:20260425T083321
CREATED:20260113T022350Z
LAST-MODIFIED:20260114T145124Z
UID:7010-1771178400-1771185600@buckhillartassociation.org
SUMMARY:BHAA Winter Fireside Chat
DESCRIPTION:Our 2025 Artist in Residence is returning for our annual Fireside Chat at the Tennis Tea! Daniel Tchetchik will speak about the collection he created\, inspired by his time in our community and the surrounding area. \nOpen to the entire community.\nNibbles compliments of BHAA.\nCash Bar.
URL:https://buckhillartassociation.org/event/bhaa-winter-fireside-chat/
LOCATION:Tennis Tea\, PA
CATEGORIES:BHAA
ATTACH;FMTTYPE=image/jpeg:https://buckhillartassociation.org/wp-content/uploads/2026/01/bhaa_Daniel-Tchetchik.jpg
ORGANIZER;CN="BHAA":MAILTO:info@buckhillartassociation.org
END:VEVENT
BEGIN:VEVENT
DTSTART;VALUE=DATE:20260130
DTEND;VALUE=DATE:20260201
DTSTAMP:20260425T083321
CREATED:20260102T021241Z
LAST-MODIFIED:20260114T145218Z
UID:7008-1769731200-1769903999@buckhillartassociation.org
SUMMARY:BHF X Sundance Film Festival
DESCRIPTION:The BHF Art Association will be hosting a weekend of films and community. Sundance Film Festival is coming to the Tennis Tea. No need to travel to Park City\, but ski chic is always welcome. \nFriday\, January 30th\, Doors: 6:30pm\, Film: 7pm\nSaturday Matinée\, January 31st\, Doors: 2:30pm\, Film: 3pm\nSaturday Evening\, January 31st\, Doors: 6:30pm\, Film: 7pm \nOpen to the entire community.\nCandy compliments of BHAA.\nCash Bar.
URL:https://buckhillartassociation.org/event/bhf-x-sundance-film-festival/
LOCATION:Tennis Tea\, PA
CATEGORIES:BHAA
ATTACH;FMTTYPE=image/jpeg:https://buckhillartassociation.org/wp-content/uploads/2026/01/bhaa_sundance.jpg
ORGANIZER;CN="BHAA":MAILTO:info@buckhillartassociation.org
END:VEVENT
BEGIN:VEVENT
DTSTART;TZID=America/New_York:20250830T090000
DTEND;TZID=America/New_York:20250830T100000
DTSTAMP:20260425T083321
CREATED:20250519T032522Z
LAST-MODIFIED:20250821T225922Z
UID:6216-1756544400-1756548000@buckhillartassociation.org
SUMMARY:BHAA Annual Meeting
DESCRIPTION:We invite BHAA members to join us at the Tennis Tea for our annual meeting. \n\n\n\n\n\n\n\n\n\n 
URL:https://buckhillartassociation.org/event/bhaa-annual-meeting/
LOCATION:Tennis Tea\, PA
CATEGORIES:BHAA
ATTACH;FMTTYPE=image/jpeg:https://buckhillartassociation.org/wp-content/uploads/2025/05/annual-meeting.jpg
ORGANIZER;CN="BHAA":MAILTO:info@buckhillartassociation.org
END:VEVENT
BEGIN:VEVENT
DTSTART;TZID=America/New_York:20250726T100000
DTEND;TZID=America/New_York:20250726T140000
DTSTAMP:20260425T083321
CREATED:20250519T025921Z
LAST-MODIFIED:20250623T163507Z
UID:6211-1753524000-1753538400@buckhillartassociation.org
SUMMARY:House & Garden Tour
DESCRIPTION:The Buck Hill Art Association is proud to present it’s annual House and Garden tour on Saturday July 26\, 2025 from 10am-2pm. Tickets for the House and Garden tour can be purchased here or at the Tennis Tea Circle starting at 9:45am.  All ticket holders must stop by the Tennis Tea to pick up a bracelet\, map and details of the Houses and Gardens on the tour.\n\nTickets for H&G are $50ea – 100% of all proceeds go towards Art Association programming\, including student scholarships\, art conservation\, free classes for members and more.\n\nThe tour is paired with our Gourmet Table\, also at the Tennis Tea\, featuring delicious offerings prepared by BHF’s culinary talents\, Vivian Azer and Amy Peabody\, along with an array of outstanding dishes and desserts from other talented Buck Hill chefs. Want to contribute? Email gourmettable@buckhillartassociation.org.  The Gourmet Table will open at 9:30am
URL:https://buckhillartassociation.org/event/home-garden-tour-and-gourmet-table/
LOCATION:Tennis Tea\, PA
CATEGORIES:BHAA
ATTACH;FMTTYPE=image/jpeg:https://buckhillartassociation.org/wp-content/uploads/2025/05/garden-tour2.jpg
ORGANIZER;CN="BHAA":MAILTO:info@buckhillartassociation.org
END:VEVENT
BEGIN:VEVENT
DTSTART;TZID=America/New_York:20250726T093000
DTEND;TZID=America/New_York:20250726T123000
DTSTAMP:20260425T083321
CREATED:20250617T161357Z
LAST-MODIFIED:20250630T012052Z
UID:6465-1753522200-1753533000@buckhillartassociation.org
SUMMARY:Gourmet Table and Pop-Up
DESCRIPTION:The Buck Hill Art Association is proud to present its annual Gourmet Table of epicurean delights on Saturday\, July 26\, 2025\, from 9:30am-2pm inside the Tennis Tea.  We’ll also be holding a first-ever Gourmet Table pop-up at the Golf Course for the Member-Guest shoot out in the afternoon.  We’re going big this year! \nOur Gourmet Table features delicious offerings prepared by BHF’s culinary talents\, Vivian Azer and Amy Peabody\, along with an array of outstanding dishes and desserts from other talented Buck Hill chefs. Want to contribute? Email: gourmettable@buckhillartassociation.org – we’d love to hear from you and deeply appreciate every dish & dessert donated. \nGourmet Table prices vary\, but you can count on 100% of all proceeds going towards Art Association programming\, including student scholarships\, art conservation\, free classes for members\, and more. \n 
URL:https://buckhillartassociation.org/event/gourmet-table-and-pop-up/
LOCATION:Tennis Tea\, PA
CATEGORIES:BHAA
ATTACH;FMTTYPE=image/png:https://buckhillartassociation.org/wp-content/uploads/2025/06/BHAA-Gourmet-Table-Scones_12x8.png
ORGANIZER;CN="BHAA":MAILTO:info@buckhillartassociation.org
END:VEVENT
BEGIN:VEVENT
DTSTART;TZID=America/New_York:20250725T100000
DTEND;TZID=America/New_York:20250725T120000
DTSTAMP:20260425T083321
CREATED:20250519T024552Z
LAST-MODIFIED:20250628T143407Z
UID:6209-1753437600-1753444800@buckhillartassociation.org
SUMMARY:Art Class: Nathalie Warriner - "Nicho" Boxes
DESCRIPTION:Join artist and cottager Nathalie Warriner for a uniquely special Art Experience! Learn to create traditional Mexican “Nicho” Boxes\, which are traditionally intended as small shrines for protection or devotion. Attendees will choose from a myriad of design elements and unique offerings to create a pocket altar\, or sacred box\, with a theme of your choosing. \nThe results of these mixed-media\, altoid-tin size creations is delightful\, and powerful\, and making them is a sweet and sacred act in and of itself. \nAll levels welcome and all materials provided. \nThis event will be held offsite at:\nThe Pocono Art House\n1354 Pocono Blvd\nMt Pocono\n \nParking across the street from the house or around the back off of Smith Alley… \n \nTo access parking around the back: \nTurn onto Center Avenue off of route 611\, then a quick right onto Smith \nAlley and up to the sign for Art House parking…\nRegistration Opens on June 28th. \nArtWeek Classes & Talks are an exclusive benefit for current BHAA members. If you’re not already a member or need to renew\, you can join the fun by becoming a supporting member today! \n 
URL:https://buckhillartassociation.org/event/art-class-nathalie-warriner-nicho-boxes/
LOCATION:Art House\, 1354 Pocono Blvd\, Mt Pocono\, 18344\, United States
CATEGORIES:BHAA
ATTACH;FMTTYPE=image/jpeg:https://buckhillartassociation.org/wp-content/uploads/2025/05/nichos.jpg
ORGANIZER;CN="BHAA":MAILTO:info@buckhillartassociation.org
END:VEVENT
BEGIN:VEVENT
DTSTART;TZID=America/New_York:20250723T100000
DTEND;TZID=America/New_York:20250723T120000
DTSTAMP:20260425T083321
CREATED:20250519T024031Z
LAST-MODIFIED:20250628T143700Z
UID:6206-1753264800-1753272000@buckhillartassociation.org
SUMMARY:Art Class: Watercolor: A Very Basic Introduction with Luigi Cicala
DESCRIPTION:Watercolor is a notoriously tricky medium\, demanding both spontaneity and control\, and frequently frustrating the novice since there is really no good way to erase mistakes. Thankfully there are a few dependable paths for the newcomer to follow\, and they open very wide vistas onto the likes of John Singer Sargent\, Winslow Homer\, and numerous other remarkable painters. Join art teacher Luigi Cicala and learn a three-part approach to developing techniques for watercolor that can be learned in a day and practiced for a lifetime. All supplies provided. Registration Opens June 28th. \nPlease note: ArtWeek Classes & Talks are an exclusive benefit for current BHAA members. If you’re not already a member or need to renew\, you can join the fun by becoming a supporting member today! \n\n\n\n\n\n\n\n\n\n 
URL:https://buckhillartassociation.org/event/art-class-luigi-cical-painting-1-of-2/
LOCATION:Tennis Tea\, PA
CATEGORIES:BHAA
ATTACH;FMTTYPE=image/jpeg:https://buckhillartassociation.org/wp-content/uploads/2025/05/watercolors.jpg
ORGANIZER;CN="BHAA":MAILTO:info@buckhillartassociation.org
END:VEVENT
BEGIN:VEVENT
DTSTART;TZID=America/New_York:20250722T100000
DTEND;TZID=America/New_York:20250722T120000
DTSTAMP:20260425T083321
CREATED:20250519T023540Z
LAST-MODIFIED:20250628T143749Z
UID:6203-1753178400-1753185600@buckhillartassociation.org
SUMMARY:Art Class: Collage Cards with Aaron Krach
DESCRIPTION:Rocks\, words\, booze\, broken toys\, plants\, decoys owls and lost earrings. Stuff. Aaron Krach works with stuff he finds\, collects\, rearranges\, and combines. He isolates\, remixes and re-frames to reveal what is overlooked\, highlight what is too-often missed\, and ask questions. \nWhere are we going? What is freedom? Who am I? \nHe has hired a hustler to make paintings with a frog and collaborated with gay soldiers in Afghanistan. Aaron combines accessible materials with existing distribution methods to create art that can spread far beyond him. You can find work work in galleries\, but more often on a billboard\, in a newspaper\, or in your mailbox. \nAaron is a two-time recipient of a Lower Manhattan Cultural Grant for Public Art and a Puffin Foundation Grant. His books are in the libraries of major museums including The Whitney Museum of American Art\, the Museum of Modern Art\, New York\, and The Museum of Contemporary Art Barcelona. His first novel\, “Half-Life\,” was published by Alyson Books. \nHe currently teaches art and design at Parsons\, The New School for Design. \nPlease Bring Magazines and Books to Pull Material From. Limited to 12 Participants. Registration Opens June 28th. \nArtWeek Classes & Talks are an exclusive benefit for current BHAA members. If you’re not already a member or need to renew\, you can join the fun by becoming a supporting member today!
URL:https://buckhillartassociation.org/event/art-class-aaron-krach-collage/
LOCATION:Tennis Tea\, PA
CATEGORIES:BHAA
ATTACH;FMTTYPE=image/jpeg:https://buckhillartassociation.org/wp-content/uploads/2025/05/collage2.jpg
ORGANIZER;CN="BHAA":MAILTO:info@buckhillartassociation.org
END:VEVENT
BEGIN:VEVENT
DTSTART;TZID=America/New_York:20250721T170000
DTEND;TZID=America/New_York:20250721T190000
DTSTAMP:20260425T083321
CREATED:20250609T224650Z
LAST-MODIFIED:20250712T202500Z
UID:6359-1753117200-1753124400@buckhillartassociation.org
SUMMARY:Fireside Chat with Photographer Daniel Tchetchik
DESCRIPTION:This summer\, BHAA brought back its artist-in-residence program with artist and photographer Daniel Tchetchik. His works are part of collections of several museums\, galleries and private collections and he’s staff photographer and chief editor of the photography blog at Haaretz Newspaper. The residency is being conducted in our first partnership with Skytop Lodge\, who will be hosting Daniel from July 18th to July 27th. Join us for a FireSide Chat at Skytop’s North Card Room on July 21st. \nRegistration Opens June 28th. \nArtWeek Classes & Talks are an exclusive benefit for current BHAA members. If you’re not already a member or need to renew\, you can join the fun by becoming a supporting member today!
URL:https://buckhillartassociation.org/event/fireside-chat-with-photographer-daniel-tchecthik/
LOCATION:Skytop Lodge\, 1 Skytop Dr\, Skytop\, PA\, 18357\, United States
CATEGORIES:BHAA
ATTACH;FMTTYPE=image/png:https://buckhillartassociation.org/wp-content/uploads/2025/06/Daniel-Tchetchik-fireside-chat.png
ORGANIZER;CN="BHAA":MAILTO:info@buckhillartassociation.org
END:VEVENT
BEGIN:VEVENT
DTSTART;TZID=America/New_York:20250721T100000
DTEND;TZID=America/New_York:20250721T120000
DTSTAMP:20260425T083321
CREATED:20250519T023005Z
LAST-MODIFIED:20250709T150346Z
UID:6201-1753092000-1753099200@buckhillartassociation.org
SUMMARY:Art Class: Carolyn Harper - Weaving with Nature
DESCRIPTION:Explore\, experiment and acknowledge the beauty of the native plants around you by incorporating them into a one-of-a-kind weaving/wall hanging. Textile and Fiber artist Carolyn Harper invites you to find the beauty in both the simplicity and complexity of natural forms and using these forms to push the boundaries of what woven art can be. \nStarting with a small loom\, which is yours to keep\, you will weave together plant fibers\, roots\, sticks and leaves\, as well as natural and synthetic yarns and string. You will learn not just how to weave\, but how to experiment with materials in order to connect with the nature and beauty that exists all around you. \nWhile all supplies will be provided\, Harper encourages you to forage for materials in your yard and surrounding area that you can bring and use in class. \nRegistration Opens on June 28th. \nArtWeek Classes & Talks are an exclusive benefit for current BHAA members. If you’re not already a member or need to renew\, you can join the fun by becoming a supporting member today!
URL:https://buckhillartassociation.org/event/art-class-carolyn-harper-weaving-with-nature/
LOCATION:Tennis Tea\, PA
CATEGORIES:BHAA
ATTACH;FMTTYPE=image/jpeg:https://buckhillartassociation.org/wp-content/uploads/2025/07/IMG_6827.jpg
ORGANIZER;CN="BHAA":MAILTO:info@buckhillartassociation.org
END:VEVENT
BEGIN:VEVENT
DTSTART;TZID=America/New_York:20250719T180000
DTEND;TZID=America/New_York:20250719T203000
DTSTAMP:20260425T083321
CREATED:20250519T022339Z
LAST-MODIFIED:20250710T142617Z
UID:6199-1752948000-1752957000@buckhillartassociation.org
SUMMARY:Cocktail Party & Auction
DESCRIPTION:Join us as we kick off Art Week with our not-to-be-missed Cocktail Party & Auction at the Tennis Tea. It’s a great opportunity to gather with friends and neighbors\, bid on unique auction items\, and enjoy some delightful refreshments\, all in support of BHAA’s ongoing art programs and scholarships. \n\n\n\n\n\n\n\n\n\n\n 
URL:https://buckhillartassociation.org/event/cocktail-party-auction/
LOCATION:Tennis Tea\, PA
CATEGORIES:BHAA
ATTACH;FMTTYPE=image/jpeg:https://buckhillartassociation.org/wp-content/uploads/2025/05/auction.jpg
ORGANIZER;CN="BHAA":MAILTO:info@buckhillartassociation.org
END:VEVENT
BEGIN:VEVENT
DTSTART;TZID=America/New_York:20250621T170000
DTEND;TZID=America/New_York:20250621T190000
DTSTAMP:20260425T083321
CREATED:20250518T203440Z
LAST-MODIFIED:20250619T114130Z
UID:6195-1750525200-1750532400@buckhillartassociation.org
SUMMARY:Member Appreciation Party
DESCRIPTION:Rain or Shine! New or Renewing Members have the option to pay Membership dues at the event by Check or Credit Card. Golf Cart (preferred) & vehicle parking on Ledge Drive.
URL:https://buckhillartassociation.org/event/membership-appreciation-party/
LOCATION:The Cottage of Sara Klein & Patrick Brennan\, 3153 Ledge Drive\, Buck Hill\, PA\, United States
CATEGORIES:BHAA
ATTACH;FMTTYPE=image/jpeg:https://buckhillartassociation.org/wp-content/uploads/2025/05/member-appreciation.jpg
ORGANIZER;CN="BHAA":MAILTO:info@buckhillartassociation.org
END:VEVENT
END:VCALENDAR